View In:
ArcGIS JavaScript
ArcGIS Online Map Viewer
ArcGIS Earth
Service Description: ROVPublic/GratonComServiceMap_tif
Name: ROVPublic/GratonComServiceMap_tif
Description:
Single Fused Map Cache: false
Extent:
XMin: 6307548.531872275
YMin: 1918648.6522675843
XMax: 6318356.5847799815
YMax: 1927010.11181344
Spatial Reference: 0
(0)
LatestVCSWkid(0)
Initial Extent:
XMin: 6307548.531872275
YMin: 1918648.6522675843
XMax: 6318356.5847799815
YMax: 1927010.11181344
Spatial Reference: 0
(0)
LatestVCSWkid(0)
Full Extent:
XMin: 6307548.531872275
YMin: 1918648.6522675843
XMax: 6318356.5847799815
YMax: 1927010.11181344
Spatial Reference: 0
(0)
LatestVCSWkid(0)
Pixel Size X: 6.5503350955795385
Pixel Size Y: 6.558007486945603
Band Count: 3
Pixel Type: U8
RasterFunction Infos: {"rasterFunctionInfos": [{
"name": "None",
"description": "",
"help": ""
}]}
Mensuration Capabilities: Basic
Inspection Capabilities:
Has Histograms: true
Has Colormap: false
Has Multi Dimensions : false
Rendering Rule:
Min Scale: 0
Max Scale: 0
Copyright Text:
Service Data Type: esriImageServiceDataTypeRGB
Min Values: 0, 0, 0
Max Values: 255, 255, 255
Mean Values: 238.49953273915, 240.09607700536, 240.74034985146
Standard Deviation Values: 47.385670055949, 43.287128617876, 42.793077739479
Object ID Field:
Fields:
None
Default Mosaic Method: Center
Allowed Mosaic Methods:
SortField:
SortValue: null
Mosaic Operator: First
Default Compression Quality: 75
Default Resampling Method: Bilinear
Max Record Count: null
Max Image Height: 4100
Max Image Width: 15000
Max Download Image Count: null
Max Mosaic Image Count: null
Allow Raster Function: true
Allow Copy: true
Allow Analysis: true
Allow Compute TiePoints: false
Supports Statistics: false
Supports Advanced Queries: false
Use StandardizedQueries: true
Raster Type Infos:
Name: Raster Dataset
Description: Supports all ArcGIS Raster Datasets
Help:
Has Raster Attribute Table: false
Edit Fields Info: null
Ownership Based AccessControl For Rasters: null
Child Resources:
Info
Histograms
Statistics
Key Properties
Legend
Raster Function Infos
Supported Operations:
Export Image
Identify
Measure
Compute Histograms
Compute Statistics Histograms
Get Samples
Compute Class Statistics
Query Boundary
Compute Pixel Location
Compute Angles
Validate
Project