View In:
ArcGIS JavaScript
ArcGIS Online Map Viewer
ArcGIS Earth
Service Description: Drone imagery of wildfire (2017) damage to Journey's End mobile home park in Sonoma County, CA.
Name: Rasters/Complex_Fire_2017_Journeys_End_Drone_Imagery
Description: Drone imagery of wildfire (2017) damage to Journey's End mobile home park in Sonoma County, CA.
Single Fused Map Cache: false
Extent:
XMin: -1.3662306757804934E7
YMin: 4646363.049875607
XMax: -1.3661889563907517E7
YMax: 4646696.472820908
Spatial Reference: 102100
(3857)
LatestVCSWkid(0)
Initial Extent:
XMin: -1.3662306757804934E7
YMin: 4646363.049875607
XMax: -1.3661889563907517E7
YMax: 4646696.472820908
Spatial Reference: 102100
(3857)
LatestVCSWkid(0)
Full Extent:
XMin: -1.3662306757804934E7
YMin: 4646363.049875607
XMax: -1.3661889563907517E7
YMax: 4646696.472820908
Spatial Reference: 102100
(3857)
LatestVCSWkid(0)
Pixel Size X: 0.01866138385296185
Pixel Size Y: 0.018661383852971874
Band Count: 3
Pixel Type: U8
RasterFunction Infos: {"rasterFunctionInfos": [{
"name": "None",
"description": "",
"help": ""
}]}
Mensuration Capabilities: Basic
Inspection Capabilities:
Has Histograms: false
Has Colormap: false
Has Multi Dimensions : false
Rendering Rule:
Min Scale: 0
Max Scale: 0
Resampling: false
Copyright Text:
Service Data Type: esriImageServiceDataTypeRGB
Min Values: N/A
Max Values: N/A
Mean Values: N/A
Standard Deviation Values: N/A
Object ID Field:
Fields:
None
Default Mosaic Method: Center
Allowed Mosaic Methods:
SortField:
SortValue: null
Mosaic Operator: First
Default Compression Quality: 75
Default Resampling Method: Bilinear
Max Record Count: null
Max Image Height: 4100
Max Image Width: 15000
Max Download Image Count: null
Max Mosaic Image Count: null
Allow Raster Function: true
Allow Copy: true
Allow Analysis: true
Allow Compute TiePoints: false
Supports Statistics: false
Supports Advanced Queries: false
Use StandardizedQueries: true
Raster Type Infos:
Name: Raster Dataset
Description: Supports all ArcGIS Raster Datasets
Help:
Has Raster Attribute Table: false
Edit Fields Info: null
Ownership Based AccessControl For Rasters: null
Child Resources:
Info
Statistics
Key Properties
Legend
Raster Function Infos
Supported Operations:
Export Image
Identify
Measure
Compute Histograms
Compute Statistics Histograms
Get Samples
Compute Class Statistics
Query Boundary
Compute Pixel Location
Compute Angles
Validate
Project