View In:
ArcGIS JavaScript
ArcGIS Online Map Viewer
ArcGIS Earth
Service Description: Source imagery released via Digital Globe Open Data site.
https://www.digitalglobe.com/opendata/santa-rosa-wildfires/post-event
10.14.17 - 104001003356F400
Name: Rasters/Complex_Fire_2017_Oct_14_2017_Imagery
Description: Source imagery released via Digital Globe Open Data site.
https://www.digitalglobe.com/opendata/santa-rosa-wildfires/post-event
10.14.17 - 104001003356F400
Single Fused Map Cache: false
Extent:
XMin: -1.3687731531023588E7
YMin: 4596809.723160701
XMax: -1.3640371924626151E7
YMax: 4674778.776391285
Spatial Reference: 102100
(3857)
LatestVCSWkid(0)
Initial Extent:
XMin: -1.3687731531023588E7
YMin: 4596809.723160701
XMax: -1.3640371924626151E7
YMax: 4674778.776391285
Spatial Reference: 102100
(3857)
LatestVCSWkid(0)
Full Extent:
XMin: -1.3687731531023588E7
YMin: 4596809.723160701
XMax: -1.3640371924626151E7
YMax: 4674778.776391285
Spatial Reference: 102100
(3857)
LatestVCSWkid(0)
Pixel Size X: 0.29858214164761804
Pixel Size Y: 0.2985821416476162
Band Count: 3
Pixel Type: U8
RasterFunction Infos: {"rasterFunctionInfos": [{
"name": "None",
"description": "",
"help": ""
}]}
Mensuration Capabilities: Basic
Inspection Capabilities:
Has Histograms: false
Has Colormap: false
Has Multi Dimensions : false
Rendering Rule:
Min Scale: 0
Max Scale: 0
Resampling: false
Copyright Text:
Service Data Type: esriImageServiceDataTypeRGB
Min Values: N/A
Max Values: N/A
Mean Values: N/A
Standard Deviation Values: N/A
Object ID Field:
Fields:
None
Default Mosaic Method: Center
Allowed Mosaic Methods:
SortField:
SortValue: null
Mosaic Operator: First
Default Compression Quality: 75
Default Resampling Method: Bilinear
Max Record Count: null
Max Image Height: 4100
Max Image Width: 15000
Max Download Image Count: null
Max Mosaic Image Count: null
Allow Raster Function: true
Allow Copy: true
Allow Analysis: true
Allow Compute TiePoints: false
Supports Statistics: false
Supports Advanced Queries: false
Use StandardizedQueries: true
Raster Type Infos:
Name: Raster Dataset
Description: Supports all ArcGIS Raster Datasets
Help:
Has Raster Attribute Table: false
Edit Fields Info: null
Ownership Based AccessControl For Rasters: null
Child Resources:
Info
Statistics
Key Properties
Legend
Raster Function Infos
Supported Operations:
Export Image
Identify
Measure
Compute Histograms
Compute Statistics Histograms
Get Samples
Compute Class Statistics
Query Boundary
Compute Pixel Location
Compute Angles
Validate
Project