View In:
ArcGIS JavaScript
ArcGIS Online Map Viewer
ArcGIS Earth
ArcMap
View Footprint In:
ArcGIS Online Map Viewer
Service Description: These data are LiDAR orthorectified aerial photographs (8-bit GeoTIFF format) within the Sonoma County Vegetation Mapping and LiDAR Program's project area. Imagery was collected in fall, 2013. The imagery coverage corresponds to the Sonoma County 2013 LiDAR survey data extent and encompasses approximately 1,047,999 acres. A GSD (Ground Sample Distance) resolution of 6 inches was used for each four-band color pixel. WSI recommends viewing the orthoimagery in ESRI ArcMap software using a raster catalog. For best results, stretch type should be set to 'None' and Gamma Stretch should not be applied (Layer Properties -> Symbology Tab). The specified coordinate system for this dataset is California State Plane Zone II (FIPS 0402), NAD83 (2011), with units in US Survey Feet.
Name: Rasters/Ortho_SoCo_SonomaVeg_2013
Description:
Single Fused Map Cache: false
Extent:
XMin: 6123217
YMin: 1801402
XMax: 6463417
YMax: 2217202
Spatial Reference: PROJCS["NAD_1983_StatePlane_California_II_FIPS_0402_Feet_2011",GEOGCS["GCS_NAD_1983_2011",DATUM["D_NAD_1983_2011",SPHEROID["GRS_1980",6378137.0,298.257222101]],PRIMEM["Greenwich",0.0],UNIT["Degree",0.0174532925199433]],PROJECTION["Lambert_Conformal_Conic"],PARAMETER["false_easting",6561666.666666666],PARAMETER["false_northing",1640416.666666667],PARAMETER["central_meridian",-122.0],PARAMETER["standard_parallel_1",38.33333333333334],PARAMETER["standard_parallel_2",39.83333333333334],PARAMETER["latitude_of_origin",37.66666666666666],UNIT["Foot_US",0.3048006096012192]]
Initial Extent:
XMin: 6123217
YMin: 1801402
XMax: 6463417
YMax: 2217202
Spatial Reference: PROJCS["NAD_1983_StatePlane_California_II_FIPS_0402_Feet_2011",GEOGCS["GCS_NAD_1983_2011",DATUM["D_NAD_1983_2011",SPHEROID["GRS_1980",6378137.0,298.257222101]],PRIMEM["Greenwich",0.0],UNIT["Degree",0.0174532925199433]],PROJECTION["Lambert_Conformal_Conic"],PARAMETER["false_easting",6561666.666666666],PARAMETER["false_northing",1640416.666666667],PARAMETER["central_meridian",-122.0],PARAMETER["standard_parallel_1",38.33333333333334],PARAMETER["standard_parallel_2",39.83333333333334],PARAMETER["latitude_of_origin",37.66666666666666],UNIT["Foot_US",0.3048006096012192]]
Full Extent:
XMin: 6123217
YMin: 1801402
XMax: 6463417
YMax: 2217202
Spatial Reference: PROJCS["NAD_1983_StatePlane_California_II_FIPS_0402_Feet_2011",GEOGCS["GCS_NAD_1983_2011",DATUM["D_NAD_1983_2011",SPHEROID["GRS_1980",6378137.0,298.257222101]],PRIMEM["Greenwich",0.0],UNIT["Degree",0.0174532925199433]],PROJECTION["Lambert_Conformal_Conic"],PARAMETER["false_easting",6561666.666666666],PARAMETER["false_northing",1640416.666666667],PARAMETER["central_meridian",-122.0],PARAMETER["standard_parallel_1",38.33333333333334],PARAMETER["standard_parallel_2",39.83333333333334],PARAMETER["latitude_of_origin",37.66666666666666],UNIT["Foot_US",0.3048006096012192]]
Pixel Size X: 0.5
Pixel Size Y: 0.5
Band Count: 4
Pixel Type: U8
RasterFunction Infos: {"rasterFunctionInfos": [{
"name": "None",
"description": "",
"help": ""
}]}
Mensuration Capabilities: None
Has Histograms: true
Has Colormap: false
Has Multi Dimensions : false
Rendering Rule:
Min Scale: 0
Max Scale: 0
Copyright Text: Sonoma County Vegetation Mapping and LiDAR Consortium, NASA, University of Maryland, Watershed Sciences, Inc., Tukman Geospatial LLC
Service Data Type: esriImageServiceDataTypeGeneric
Min Values: 2, 4, 2, 0
Max Values: 255, 255, 255, 255
Mean Values: 82.26840621784613, 81.11153472835544, 62.95513543606829, 114.84564106599976
Standard Deviation Values: 49.096947151004635, 44.6249458861804, 43.379008349549316, 38.956868732513435
Object ID Field: OBJECTID
Fields:
-
OBJECTID
(
type: esriFieldTypeOID, alias: OBJECTID
)
-
Shape
(
type: esriFieldTypeGeometry, alias: Shape
)
-
Name
(
type: esriFieldTypeString, alias: Name, length: 200
)
-
MinPS
(
type: esriFieldTypeDouble, alias: MinPS
)
-
MaxPS
(
type: esriFieldTypeDouble, alias: MaxPS
)
-
LowPS
(
type: esriFieldTypeDouble, alias: LowPS
)
-
HighPS
(
type: esriFieldTypeDouble, alias: HighPS
)
-
Category
(
type: esriFieldTypeInteger, alias: Category
, Coded Values:
[0: Unknown]
, [1: Primary]
, [2: Overview]
, ...6 more...
)
-
Tag
(
type: esriFieldTypeString, alias: Tag, length: 100
)
-
GroupName
(
type: esriFieldTypeString, alias: GroupName, length: 100
)
-
ProductName
(
type: esriFieldTypeString, alias: ProductName, length: 100
)
-
CenterX
(
type: esriFieldTypeDouble, alias: CenterX
)
-
CenterY
(
type: esriFieldTypeDouble, alias: CenterY
)
-
ZOrder
(
type: esriFieldTypeInteger, alias: ZOrder
)
-
Shape_Length
(
type: esriFieldTypeDouble, alias: Shape_Length
)
-
Shape_Area
(
type: esriFieldTypeDouble, alias: Shape_Area
)
Default Mosaic Method: Northwest
Allowed Mosaic Methods: NorthWest,Center,LockRaster,ByAttribute,Nadir,Viewpoint,Seamline,None
SortField:
SortValue: null
Mosaic Operator: First
Default Compression Quality: 75
Default Resampling Method: Bilinear
Max Record Count: 1000
Max Image Height: 4100
Max Image Width: 15000
Max Download Image Count: 20
Max Mosaic Image Count: 20
Allow Raster Function: true
Allow Copy: true
Allow Analysis: true
Allow Compute TiePoints: false
Supports Statistics: true
Supports Advanced Queries: true
Use StandardizedQueries: true
Raster Type Infos:
Name: Raster Dataset
Description: Supports all ArcGIS Raster Datasets
Help:
Has Raster Attribute Table: false
Edit Fields Info: null
Ownership Based AccessControl For Rasters: null
Child Resources:
Info
Histograms
Statistics
Key Properties
Legend
Raster Function Infos
Supported Operations:
Export Image
Query
Identify
Compute Histograms
Compute Statistics Histograms
Get Samples
Compute Class Statistics
Query Boundary
Compute Pixel Location
Compute Angles
Validate
Project