View In:
ArcGIS JavaScript
ArcGIS Online Map Viewer
ArcGIS Earth
Service Description: The hillshade is a greyscale image showing topography in the landscape. In this case it is created from a USGS 30 meter derived bare earth digital elevation model illuminated by hypothetical light source shining from the north west. A bare earth digital elevation model (DEM) represents the earth's surface with all vegetation and human-made structures removed.
Name: Rasters/SoCo_USGS_10M_DEM_HS_1990
Description:
Single Fused Map Cache: false
Extent:
XMin: -1.3763299086003983E7
YMin: 4573972.662918261
XMax: -1.3612030207023634E7
YMax: 4713331.697428612
Spatial Reference: 102100
(3857)
LatestVCSWkid(0)
Initial Extent:
XMin: -1.3763299086003983E7
YMin: 4573972.662918261
XMax: -1.3612030207023634E7
YMax: 4713331.697428612
Spatial Reference: 102100
(3857)
LatestVCSWkid(0)
Full Extent:
XMin: -1.3763299086003983E7
YMin: 4573972.662918261
XMax: -1.3612030207023634E7
YMax: 4713331.697428612
Spatial Reference: 102100
(3857)
LatestVCSWkid(0)
Pixel Size X: 4.777314267949398
Pixel Size Y: 4.77731426794936
Band Count: 3
Pixel Type: U8
RasterFunction Infos: {"rasterFunctionInfos": [{
"name": "None",
"description": "",
"help": ""
}]}
Mensuration Capabilities: Basic
Inspection Capabilities:
Has Histograms: false
Has Colormap: false
Has Multi Dimensions : false
Rendering Rule:
Min Scale: 0
Max Scale: 0
Resampling: false
Copyright Text: County of Sonoma ISD GIS, U.S. Department of Agriculture (USDA) Natural Resources Conservation Services, National Cartography & Geospatial Center.
Service Data Type: esriImageServiceDataTypeRGB
Min Values: N/A
Max Values: N/A
Mean Values: N/A
Standard Deviation Values: N/A
Object ID Field:
Fields:
None
Default Mosaic Method: Center
Allowed Mosaic Methods:
SortField:
SortValue: null
Mosaic Operator: First
Default Compression Quality: 75
Default Resampling Method: Bilinear
Max Record Count: null
Max Image Height: 4100
Max Image Width: 15000
Max Download Image Count: null
Max Mosaic Image Count: null
Allow Raster Function: true
Allow Copy: true
Allow Analysis: true
Allow Compute TiePoints: false
Supports Statistics: false
Supports Advanced Queries: false
Use StandardizedQueries: true
Raster Type Infos:
Name: Raster Dataset
Description: Supports all ArcGIS Raster Datasets
Help:
Has Raster Attribute Table: false
Edit Fields Info: null
Ownership Based AccessControl For Rasters: null
Child Resources:
Info
Statistics
Key Properties
Legend
Raster Function Infos
Supported Operations:
Export Image
Identify
Measure
Compute Histograms
Compute Statistics Histograms
Get Samples
Compute Class Statistics
Query Boundary
Compute Pixel Location
Compute Angles
Validate
Project