View In:
ArcGIS JavaScript
ArcGIS Online Map Viewer
ArcGIS Earth
Service Description: Landslides and relative slope stability - Sonoma County. Compiled by Charles F. Armstrong. Original map scale 1: 62,500, contour interval 200 feet. The base map used is an enlargement from a 1:125,000-scale published map.
Name: Rasters/USGS_Landslide_Relative_Slope_Stability_1980_WM
Description:
Single Fused Map Cache: false
Extent:
XMin: -1.3752990206630064E7
YMin: 4587524.323420038
XMax: -1.3619636256158218E7
YMax: 4701377.277050655
Spatial Reference: 102100
(3857)
LatestVCSWkid(0)
Initial Extent:
XMin: -1.3752990206630064E7
YMin: 4587524.323420038
XMax: -1.3619636256158218E7
YMax: 4701377.277050655
Spatial Reference: 102100
(3857)
LatestVCSWkid(0)
Full Extent:
XMin: -1.3752990206630064E7
YMin: 4587524.323420038
XMax: -1.3619636256158218E7
YMax: 4701377.277050655
Spatial Reference: 102100
(3857)
LatestVCSWkid(0)
Pixel Size X: 9.55462853563419
Pixel Size Y: 9.55462853563418
Band Count: 3
Pixel Type: U8
RasterFunction Infos: {"rasterFunctionInfos": [{
"name": "None",
"description": "",
"help": ""
}]}
Mensuration Capabilities: Basic
Inspection Capabilities:
Has Histograms: false
Has Colormap: false
Has Multi Dimensions : false
Rendering Rule:
Min Scale: 0
Max Scale: 0
Copyright Text: Huffman, M.E., 1972, modified by Armstrong, C.F., 1974.Huffman, M.E., 1972, and Morton, D. M., unpublished.Huffman, M.E., 1973, and Morton. D. M., unpublished.Huffman, M.E., 1973, modified by Armstrong, C.F., 1974.Armstrong, C.F., aerial photo interpretation, 1974.Morton, D.M., unpublished, modified by Armstrong, C.F., 1974.Morton, D.M., unpublished, modified by Armstrong, C.F., 1974.Wentworth, C.W. 9 (a), unpublished, modified by Armstrong, C.F., 1974.Armstrong, C.F., aerial photo interpretation, 1974, and Sims, J.D., et al, 1973.Armstrong, C.F., aerial photo interpretation, 1974, and Fox, K.F. Jr., et al, 1973.Huffman, M.E., 1971, and Fox, K.F. Jr., et al, 1973, modified by Armstrong, C.F., 1974.Dwyer, M.J., 1974.Frenaye, T., unpublished, modified by Armstrong, C.F., 1974.
Service Data Type: esriImageServiceDataTypeRGB
Min Values: N/A
Max Values: N/A
Mean Values: N/A
Standard Deviation Values: N/A
Object ID Field:
Fields:
None
Default Mosaic Method: Center
Allowed Mosaic Methods:
SortField:
SortValue: null
Mosaic Operator: First
Default Compression Quality: 75
Default Resampling Method: Bilinear
Max Record Count: null
Max Image Height: 4100
Max Image Width: 15000
Max Download Image Count: null
Max Mosaic Image Count: null
Allow Raster Function: true
Allow Copy: true
Allow Analysis: true
Allow Compute TiePoints: false
Supports Statistics: false
Supports Advanced Queries: false
Use StandardizedQueries: true
Raster Type Infos:
Name: Raster Dataset
Description: Supports all ArcGIS Raster Datasets
Help:
Has Raster Attribute Table: false
Edit Fields Info: null
Ownership Based AccessControl For Rasters: null
Child Resources:
Info
Statistics
Key Properties
Legend
Raster Function Infos
Supported Operations:
Export Image
Identify
Measure
Compute Histograms
Compute Statistics Histograms
Get Samples
Compute Class Statistics
Query Boundary
Compute Pixel Location
Compute Angles
Validate
Project