View In:
ArcGIS JavaScript
ArcGIS Online Map Viewer
ArcGIS Earth
Service Description: The topo bathymetric bare earth digital elevation model (DEM) represents the earth's surface with all water, vegetation and anthropogenic features removed. It was derived from Green and NIR Lidar data using TIN processing of the ground and bathymetric bottom point returns. This version of the topo bathymetric model has not been clipped. Areas of bathymetric voids were triangulated from the nearest bathymetric returns. Users should be aware that bathymetric voids can indicate deeper areas beyond the penetration capabilities of the laser and view these as low confidence areas. A bathymetric coverage polygon has been provided as a separate deliverable indicating where there was a lack of bathymetric returns. The horizontal datum for this dataset is NAD83 (2011), the vertical datum is NAVD88, Geoid 18, and the data is projected in California State Plane, Zone 2. Units are in US Survey Feet. NV5 Geospatial collected the Sonoma Creek Topo bathymetric Lidar data for Sonoma Water between 02/04/2021 and 02/06/2021.
Name: SCWAPublic/SCWA_SonomaCreek_Lidar_BareEarth_DEM_2021
Description:
Single Fused Map Cache: false
Extent:
XMin: 6392151.0
YMin: 1845231.0
XMax: 6444024.0
YMax: 1925532.0
Spatial Reference: 103004
(6418)
LatestVCSWkid(0)
Initial Extent:
XMin: 6392151.0
YMin: 1845231.0
XMax: 6444024.0
YMax: 1925532.0
Spatial Reference: 103004
(6418)
LatestVCSWkid(0)
Full Extent:
XMin: 6392151.0
YMin: 1845231.0
XMax: 6444024.0
YMax: 1925532.0
Spatial Reference: 103004
(6418)
LatestVCSWkid(0)
Pixel Size X: 3.0
Pixel Size Y: 3.0
Band Count: 1
Pixel Type: F32
RasterFunction Infos: {"rasterFunctionInfos": [{
"name": "None",
"description": "",
"help": ""
}]}
Mensuration Capabilities: Basic
Inspection Capabilities:
Has Histograms: true
Has Colormap: false
Has Multi Dimensions : false
Rendering Rule:
Min Scale: 0
Max Scale: 0
Resampling: false
Copyright Text: Sonoma Water
Service Data Type: esriImageServiceDataTypeGeneric
Min Values: -0.27000001072884
Max Values: 1244.1999511719
Mean Values: 254.86724182029
Standard Deviation Values: 198.78428051527
Object ID Field:
Fields:
None
Default Mosaic Method: Center
Allowed Mosaic Methods:
SortField:
SortValue: null
Mosaic Operator: First
Default Compression Quality: 75
Default Resampling Method: Bilinear
Max Record Count: null
Max Image Height: 4100
Max Image Width: 15000
Max Download Image Count: null
Max Mosaic Image Count: null
Allow Raster Function: true
Allow Copy: false
Allow Analysis: true
Allow Compute TiePoints: false
Supports Statistics: false
Supports Advanced Queries: false
Use StandardizedQueries: true
Raster Type Infos:
Name: Raster Dataset
Description: Supports all ArcGIS Raster Datasets
Help:
Has Raster Attribute Table: false
Edit Fields Info: null
Ownership Based AccessControl For Rasters: null
Child Resources:
Info
Histograms
Statistics
Key Properties
Legend
Raster Function Infos
Supported Operations:
Export Image
Identify
Measure
Compute Histograms
Compute Statistics Histograms
Get Samples
Compute Class Statistics
Query Boundary
Compute Pixel Location
Compute Angles
Validate
Project