View In:
ArcGIS JavaScript
ArcGIS Online Map Viewer
ArcGIS Earth
ArcGIS Pro
Service Description: <div style='text-align:Left;'><div><p><span>Test</span></p></div></div>
Map Name: GoGovBaseMap
Legend
All Layers and Tables
Dynamic Legend
Dynamic All Layers
Layers:
Description: Test
Copyright Text:
Spatial Reference:
102642
(2226)
LatestVCSWkid(0)
Single Fused Map Cache: true
Tile Info:
- Height: 256.0
- Width: 256.0
- DPI: 96.0
-
Levels of Detail: 24
-
Level ID: 0
[ Start Tile, End Tile ]
- Resolution: 951352.1719147121
- Scale: 1.095959893965536E9
-
Level ID: 1
[ Start Tile, End Tile ]
- Resolution: 475676.08595735603
- Scale: 5.47979946982768E8
-
Level ID: 2
[ Start Tile, End Tile ]
- Resolution: 237838.04297867802
- Scale: 2.73989973491384E8
-
Level ID: 3
[ Start Tile, End Tile ]
- Resolution: 118919.02148933901
- Scale: 1.36994986745692E8
-
Level ID: 4
[ Start Tile, End Tile ]
- Resolution: 59459.510744669504
- Scale: 6.8497493372846E7
-
Level ID: 5
[ Start Tile, End Tile ]
- Resolution: 29729.755372334752
- Scale: 3.4248746686423E7
-
Level ID: 6
[ Start Tile, End Tile ]
- Resolution: 14864.877686167376
- Scale: 1.71243733432115E7
-
Level ID: 7
[ Start Tile, End Tile ]
- Resolution: 7432.438843083688
- Scale: 8562186.67160575
-
Level ID: 8
[ Start Tile, End Tile ]
- Resolution: 3716.219421541844
- Scale: 4281093.335802875
-
Level ID: 9
[ Start Tile, End Tile ]
- Resolution: 1858.109710770922
- Scale: 2140546.6679014377
-
Level ID: 10
[ Start Tile, End Tile ]
- Resolution: 929.054855385461
- Scale: 1070273.3339507189
-
Level ID: 11
[ Start Tile, End Tile ]
- Resolution: 464.5274276927305
- Scale: 535136.6669753594
-
Level ID: 12
[ Start Tile, End Tile ]
- Resolution: 232.26371384636525
- Scale: 267568.3334876797
-
Level ID: 13
[ Start Tile, End Tile ]
- Resolution: 116.13185692318262
- Scale: 133784.16674383986
-
Level ID: 14
[ Start Tile, End Tile ]
- Resolution: 58.06592846159131
- Scale: 66892.08337191993
-
Level ID: 15
[ Start Tile, End Tile ]
- Resolution: 29.032964230795656
- Scale: 33446.041685959965
-
Level ID: 16
[ Start Tile, End Tile ]
- Resolution: 14.516482115397828
- Scale: 16723.020842979982
-
Level ID: 17
[ Start Tile, End Tile ]
- Resolution: 7.258241057698914
- Scale: 8361.510421489991
-
Level ID: 18
[ Start Tile, End Tile ]
- Resolution: 3.629120528849457
- Scale: 4180.755210744996
-
Level ID: 19
[ Start Tile, End Tile ]
- Resolution: 1.8145602644247285
- Scale: 2090.377605372498
-
Level ID: 20
[ Start Tile, End Tile ]
- Resolution: 0.9072801322123643
- Scale: 1045.188802686249
-
Level ID: 21
[ Start Tile, End Tile ]
- Resolution: 0.4536400661061821
- Scale: 522.5944013431244
-
Level ID: 22
[ Start Tile, End Tile ]
- Resolution: 0.22682003305309106
- Scale: 261.2972006715622
-
Level ID: 23
[ Start Tile, End Tile ]
- Resolution: 0.11341001652654553
- Scale: 130.6486003357811
- Format: PNG
- Compression Quality: 0.0
- Origin: X: -1.1521141133841649E8
Y: 1.1310169576849918E8
- Spatial Reference: 102642
(2226)
LatestVCSWkid(0)
Storage Info:
- Storage Format: esriMapCacheStorageModeCompactV2
- Packet Size: 128
Initial Extent:
XMin: 6094430.180538099
YMin: 1688748.79845515
XMax: 6491099.7775920965
YMax: 2172598.5267298063
Spatial Reference: 102642
(2226)
LatestVCSWkid(0)
Full Extent:
XMin: 6107525.515374816
YMin: 1754005.6907953196
XMax: 6478004.44275538
YMax: 2107341.6343896366
Spatial Reference: 102642
(2226)
LatestVCSWkid(0)
Units: esriFeet
Supported Image Format Types: PNG32,PNG24,PNG,JPG,DIB,TIFF,EMF,PS,PDF,GIF,SVG,SVGZ,BMP
Document Info:
Title: Map
Author:
Comments: Test
Subject:
Category:
Keywords:
AntialiasingMode: Fast
TextAntialiasingMode: Force
Supports Dynamic Layers: true
Resampling: false
MaxRecordCount: 2000
MaxImageHeight: 4096
MaxImageWidth: 4096
Supported Query Formats: JSON, geoJSON, PBF
Supports Query Data Elements: true
Min Scale: 1070273.3339507189
Max Scale: 522.5944013431244
Supports Datum Transformation: true
Active Range Name:
Current Range Extent: [0,6]
Child Resources:
Info
Dynamic Layer
Supported Operations:
Export Map
Identify
QueryLegends
QueryDomains
Find
Return Updates