View In:
ArcGIS JavaScript
ArcGIS Online Map Viewer
ArcGIS Earth
ArcMap
View Footprint In:
ArcGIS Online Map Viewer
Service Description: A bare earth digital elevation model (DEM) represents the earth's surface with all vegetation and human-made structures removed. The bare earth DEMs were derived from LiDAR data using triangulated irregular network (TIN) processing of the ground point returns. Hydro-flattened Bare Earth DEMs represent water bodies in a cartographically and aesthetically pleasing manner, and are not intended to accurately map water surface elevations. In a Hydro-flattened DEM, water surfaces are flat and level for lakes with a greater area than two acres, and gradated for rivers or other long impoundments (e.g., reservoirs) that are wider than 100 feet, and tidal areas. Any existing island larger than one acre was be delineated. Water surface edge elevations were at or below the immediately surrounding terrain. Each image corresponds to a 37,800-square-foot tile. Each pixel is 3 feet and represents an average elevation for that area. The specified coordinate system for this dataset is California State Plane Zone II (FIPS 0402), NAD83 (2011), with units in US Survey Feet for horizontal, and vertical units are NAVD88 (12A) US Survey Feet. The dataset encompasses a portion of Sonoma County. WSI collected the LiDAR and created this data set for the Sonoma County Vegetation Mapping and LiDAR Consortium.
Name: Rasters/Lidar_HydroFlat_BareEarth_HS_2013
Description: A bare earth digital elevation model (DEM) represents the earth's surface with all vegetation and human-made structures removed. The bare earth DEMs were derived from LiDAR data using triangulated irregular network (TIN) processing of the ground point returns. Hydro-flattened Bare Earth DEMs represent water bodies in a cartographically and aesthetically pleasing manner, and are not intended to accurately map water surface elevations. In a Hydro-flattened DEM, water surfaces are flat and level for lakes with a greater area than two acres, and gradated for rivers or other long impoundments (e.g., reservoirs) that are wider than 100 feet, and tidal areas. Any existing island larger than one acre was be delineated. Water surface edge elevations were at or below the immediately surrounding terrain. Each image corresponds to a 37,800-square-foot tile. Each pixel is 3 feet and represents an average elevation for that area. The specified coordinate system for this dataset is California State Plane Zone II (FIPS 0402), NAD83 (2011), with units in US Survey Feet for horizontal, and vertical units are NAVD88 (12A) US Survey Feet. The dataset encompasses a portion of Sonoma County. WSI collected the LiDAR and created this data set for the Sonoma County Vegetation Mapping and LiDAR Consortium.
Single Fused Map Cache: false
Extent:
XMin: 6119016.656045854
YMin: 1797201.8937079296
XMax: 6497017.16888843
YMax: 2250801.9213600755
Spatial Reference: PROJCS["NAD_1983_StatePlane_California_II_FIPS_0402_Feet_2011",GEOGCS["GCS_NAD_1983_2011",DATUM["D_NAD_1983_2011",SPHEROID["GRS_1980",6378137.0,298.257222101]],PRIMEM["Greenwich",0.0],UNIT["Degree",0.0174532925199433]],PROJECTION["Lambert_Conformal_Conic"],PARAMETER["false_easting",6561666.666666666],PARAMETER["false_northing",1640416.666666667],PARAMETER["central_meridian",-122.0],PARAMETER["standard_parallel_1",38.33333333333334],PARAMETER["standard_parallel_2",39.83333333333334],PARAMETER["latitude_of_origin",37.66666666666666],UNIT["Foot_US",0.3048006096012192]]
Initial Extent:
XMin: 6119016.656045854
YMin: 1797201.8937079296
XMax: 6497017.16888843
YMax: 2250801.9213600755
Spatial Reference: PROJCS["NAD_1983_StatePlane_California_II_FIPS_0402_Feet_2011",GEOGCS["GCS_NAD_1983_2011",DATUM["D_NAD_1983_2011",SPHEROID["GRS_1980",6378137.0,298.257222101]],PRIMEM["Greenwich",0.0],UNIT["Degree",0.0174532925199433]],PROJECTION["Lambert_Conformal_Conic"],PARAMETER["false_easting",6561666.666666666],PARAMETER["false_northing",1640416.666666667],PARAMETER["central_meridian",-122.0],PARAMETER["standard_parallel_1",38.33333333333334],PARAMETER["standard_parallel_2",39.83333333333334],PARAMETER["latitude_of_origin",37.66666666666666],UNIT["Foot_US",0.3048006096012192]]
Full Extent:
XMin: 6119016.656045854
YMin: 1797201.8937079296
XMax: 6497017.16888843
YMax: 2250801.9213600755
Spatial Reference: PROJCS["NAD_1983_StatePlane_California_II_FIPS_0402_Feet_2011",GEOGCS["GCS_NAD_1983_2011",DATUM["D_NAD_1983_2011",SPHEROID["GRS_1980",6378137.0,298.257222101]],PRIMEM["Greenwich",0.0],UNIT["Degree",0.0174532925199433]],PROJECTION["Lambert_Conformal_Conic"],PARAMETER["false_easting",6561666.666666666],PARAMETER["false_northing",1640416.666666667],PARAMETER["central_meridian",-122.0],PARAMETER["standard_parallel_1",38.33333333333334],PARAMETER["standard_parallel_2",39.83333333333334],PARAMETER["latitude_of_origin",37.66666666666666],UNIT["Foot_US",0.3048006096012192]]
Pixel Size X: 0.9795982430555547
Pixel Size Y: 0.9795982430555555
Band Count: 3
Pixel Type: U8
RasterFunction Infos: {"rasterFunctionInfos": [{
"name": "None",
"description": "",
"help": ""
}]}
Mensuration Capabilities: Basic
Has Histograms: false
Has Colormap: false
Has Multi Dimensions : false
Rendering Rule:
Min Scale: 0
Max Scale: 0
Copyright Text: Sonoma County Vegetation Mapping and LiDAR Consortium, NASA, University of Maryland, Watershed Sciences, Inc., Tukman Geospatial LLC
Service Data Type: esriImageServiceDataTypeRGB
Min Values: N/A
Max Values: N/A
Mean Values: N/A
Standard Deviation Values: N/A
Object ID Field:
Fields:
None
Default Mosaic Method: Northwest
Allowed Mosaic Methods: NorthWest,Center,LockRaster,ByAttribute,Nadir,Viewpoint,Seamline,None
SortField:
SortValue: null
Mosaic Operator: First
Default Compression Quality: 75
Default Resampling Method: Bilinear
Max Record Count: 1000
Max Image Height: 4100
Max Image Width: 15000
Max Download Image Count: 20
Max Mosaic Image Count: 20
Allow Raster Function: true
Allow Compute TiePoints: false
Supports Statistics: false
Supports Advanced Queries: false
Use StandardizedQueries: true
Raster Type Infos:
Name: Raster Dataset
Description: Supports all ArcGIS Raster Datasets
Help:
Has Raster Attribute Table: false
Edit Fields Info: null
Ownership Based AccessControl For Rasters: null
Child Resources:
Info
Key Properties
Legend
MultiDimensionalInfo
rasterFunctionInfos
Supported Operations:
Export Image
Query
Identify
Measure
Compute Histograms
Compute Statistics Histograms
Get Samples
Compute Class Statistics
Query Boundary
Compute Pixel Location